BEGIN:VCALENDAR
VERSION:2.0
PRODID:-//Massy Books - ECPv6.2.6//NONSGML v1.0//EN
CALSCALE:GREGORIAN
METHOD:PUBLISH
X-ORIGINAL-URL:https://www.massybooks.com
X-WR-CALDESC:Events for Massy Books
REFRESH-INTERVAL;VALUE=DURATION:PT1H
X-Robots-Tag:noindex
X-PUBLISHED-TTL:PT1H
BEGIN:VTIMEZONE
TZID:America/Vancouver
BEGIN:DAYLIGHT
TZOFFSETFROM:-0800
TZOFFSETTO:-0700
TZNAME:PDT
DTSTART:20210314T100000
END:DAYLIGHT
BEGIN:STANDARD
TZOFFSETFROM:-0700
TZOFFSETTO:-0800
TZNAME:PST
DTSTART:20211107T090000
END:STANDARD
END:VTIMEZONE
BEGIN:VEVENT
DTSTART;TZID=America/Vancouver:20210914T170000
DTEND;TZID=America/Vancouver:20210914T183000
DTSTAMP:20260421T110711
CREATED:20210827T182012Z
LAST-MODIFIED:20210827T182012Z
UID:6906-1631638800-1631644200@www.massybooks.com
SUMMARY:Book Launch: Myriam Steinberg - Catalogue Baby
DESCRIPTION:Catalogue Baby is a graphic novel about an indomitable spirit who\, like so many women\, lives through fertility struggles\, miscarriages\, and the deep-seeded desire to bring a child into the world. It’s about heartbreak\, laughter\, and hope.  At its heart\, it aims to break the silence and taboos surrounding the world of conception. \nJoin the author Myriam Steinberg for the launch of this beautifully drawn and generously told graphic novel. \n  \nPurchase the Book: https://bit.ly/3yse4q5
URL:https://www.massybooks.com/event/catalogue-baby/
ATTACH;FMTTYPE=image/jpeg:https://www.massybooks.com/wp-content/uploads/2021/08/book-cover-catalogue-baby-by-myriam-steinberg.jpg
END:VEVENT
END:VCALENDAR