BEGIN:VCALENDAR
VERSION:2.0
PRODID:-//Massy Books - ECPv6.2.6//NONSGML v1.0//EN
CALSCALE:GREGORIAN
METHOD:PUBLISH
X-WR-CALNAME:Massy Books
X-ORIGINAL-URL:https://www.massybooks.com
X-WR-CALDESC:Events for Massy Books
REFRESH-INTERVAL;VALUE=DURATION:PT1H
X-Robots-Tag:noindex
X-PUBLISHED-TTL:PT1H
BEGIN:VTIMEZONE
TZID:America/Vancouver
BEGIN:DAYLIGHT
TZOFFSETFROM:-0800
TZOFFSETTO:-0700
TZNAME:PDT
DTSTART:20210314T100000
END:DAYLIGHT
BEGIN:STANDARD
TZOFFSETFROM:-0700
TZOFFSETTO:-0800
TZNAME:PST
DTSTART:20211107T090000
END:STANDARD
END:VTIMEZONE
BEGIN:VEVENT
DTSTART;TZID=America/Vancouver:20210712T100000
DTEND;TZID=America/Vancouver:20210822T180000
DTSTAMP:20260421T081322
CREATED:20210710T024630Z
LAST-MODIFIED:20210712T232418Z
UID:6873-1626084000-1629655200@www.massybooks.com
SUMMARY:Aaniya Asrani: Temporary Resident
DESCRIPTION:The tongue of my ancestors is Sindhi\, I can’t learn it anymore. \n\nMy mother tongue is Hindi\, I can’t write it very well. \nMy father tongue is Kannada\, I can’t read it at all. \nMy tongue is the colonizers\, I can’t cut it off. \n\n  \nAaniya Asrani\nJuly 12 – August 22\, 2021\nin the Massy Gallery\nUpstairs at Massy Books\n229 East Georgia Street \nTemporary Resident addresses themes of identity\, immigration and mental health in the viewpoint of the ‘Other’. Here I attempt to unpack the point of tension I occupy as a temporary resident and uninvited visitor on unceded territories. This show poses more questions than answers\, and asks us to investigate our complicity in larger social\, political\, and cultural systems of oppression. \nThese pieces exist in response to the in-between space I have come to inhabit as a foreign body distanced from home. A space in limbo\, which has only been exacerbated by a year of flight bans\, confinement\, and uncertainty. Rather than conceal my feelings\, I have accepted and held space for the surfacing of negative emotions such as Depression and Anxiety which have come to resemble old friends. I now invite them to dance with me. \nThis show welcomes you to be a part of my emotional landscape. I encourage you to engage in the space and interact with specific works. Pick up a ‘Listening Vessel’ and hold it up to your ear/talk into it\, sit down in the chair and read a book or two\, or seek out the small gestures scattered around the space that offer ritual protection to keep us safe in our journeys. \nAbout the Artist: \nAaniya Asrani (b. 1992) is an interdisciplinary artist\, graphic designer\, and visual storyteller from Bangalore\, India. She graduated from Srishti Institute of Art\, Design\, and Technology with distinction in Visual Communication (2014) and Emily Carr University with a Master of Fine Arts (2019). \nShe lives and works on the unceded territories of the Musqueam\, Squamish\, Tsleil-Waututh Nations as Lead Community Artist at PosAbilities\, Neighbourhood Organiser with InWithForward and an Educator at Emily Carr University of Art and Design. She has been Artist-in-Residence at Access Gallery’s PLOT (2020-2021) and Mount Pleasant Elementary School (2020-2021). She has also conducted workshops at Ground Floor Art Centre (2018)\, Centre A (2019)\, and Roundhouse Community Centre (2020). \nHer art practice spans a range of mediums\, and investigates social\, political\, and cultural systems in order to critique and question existing injustices. The work she undertakes has the ultimate goal of facilitating empathy across diverse communities and systemic disparities to catalyse small actions of change. \nLand Acknowledgment:  \nI would like to acknowledge the ground on which we stand as the unceded territories of the Coast Salish peoples including the xʷməθkwəy̓əm (Musqueam)\, Skwxwú7mesh (Squamish)\, and Səl̓ílwətaʔ/Selilwitulh (Tsleil-Waututh) Nations. I do this not only to recognize the history of this land\, but to acknowledge a pressing need for change and concrete actions towards decolonizing our settler societies. \n\n“>
URL:https://www.massybooks.com/event/aaniya-asrani/
END:VEVENT
BEGIN:VEVENT
DTSTART;TZID=America/Vancouver:20210715T173000
DTEND;TZID=America/Vancouver:20210715T183000
DTSTAMP:20260421T081322
CREATED:20210622T220029Z
LAST-MODIFIED:20210622T220536Z
UID:6849-1626370200-1626373800@www.massybooks.com
SUMMARY:The Rebellious Tide: Book Launch with Eddy Boudel Tan
DESCRIPTION:Eddy Boudel Tan’s sophomore novel THE REBELLIOUS TIDE has sailed into port! Join this interactive virtual celebration from your corner of the world. \nThis event features readings and Q&A with the author and live music from special guest Jackie Nguyen . Hosted by Brian Francis\, acclaimed author of Break in Case of Emergency\, Natural Order\, Fruit\, and the forthcoming memoir Missed Connections. *Prize giveaways with Thomas Boudel Tan\, husband of the author * \nThis event is co-presented by Dundurn Press and Massy Books \nHow to Attend:\n \n\nYou can register now\, or simply sign on minutes before showtime. You’ll be asked to create a username\, then voilà! You’re in. Registering now should make it slightly faster to sign in on event day\, but it’s not essential. Register here: https://www.crowdcast.io/e/the-rebellious-tide/register\nUnlike Zoom\, there is no app to download. All you’ll need is your web browser.\nYou can join by computer or mobile\, though I’d recommend a laptop or desktop to better enjoy the festivities and interact via chat. You could even connect your computer to your TV if you want to feel as though I’m in your living room with you! (Does anyone want that besides Mom and Dad?)\nIf you join by mobile\, you’ll have the option of either viewing with your web browser app or downloading the Crowdcast app. If you choose the Crowdcast app\, you might want to download it ahead of time.\nWe’ll be interacting with the audience via chat through questions\, polls\, and prize giveaways\, but there’s no need to turn on your cameras. So sit back\, pour yourself a glass\, wear your comfiest clothes\, and enjoy the show!\n\nTHE REBELLIOUS TIDE will be available at your favourite bookseller on July 13 in Canada\, and August 10 in the US/UK . Massy Books will be selling signed copies at the event. Pre-order now! https://bit.ly/2So4q9g \nWe hope to see you there!
URL:https://www.massybooks.com/event/the-rebellious-tide/
ATTACH;FMTTYPE=image/jpeg:https://www.massybooks.com/wp-content/uploads/2021/06/The-Rebellious-Tide-Final-Cover.jpg
END:VEVENT
END:VCALENDAR