BEGIN:VCALENDAR
VERSION:2.0
PRODID:-//Massy Books - ECPv6.2.6//NONSGML v1.0//EN
CALSCALE:GREGORIAN
METHOD:PUBLISH
X-WR-CALNAME:Massy Books
X-ORIGINAL-URL:https://www.massybooks.com
X-WR-CALDESC:Events for Massy Books
REFRESH-INTERVAL;VALUE=DURATION:PT1H
X-Robots-Tag:noindex
X-PUBLISHED-TTL:PT1H
BEGIN:VTIMEZONE
TZID:America/Vancouver
BEGIN:DAYLIGHT
TZOFFSETFROM:-0800
TZOFFSETTO:-0700
TZNAME:PDT
DTSTART:20210314T100000
END:DAYLIGHT
BEGIN:STANDARD
TZOFFSETFROM:-0700
TZOFFSETTO:-0800
TZNAME:PST
DTSTART:20211107T090000
END:STANDARD
END:VTIMEZONE
BEGIN:VEVENT
DTSTART;TZID=America/Vancouver:20210528T120000
DTEND;TZID=America/Vancouver:20210528T133000
DTSTAMP:20260421T053541
CREATED:20210503T154146Z
LAST-MODIFIED:20210503T154146Z
UID:6789-1622203200-1622208600@www.massybooks.com
SUMMARY:Jordan Abel: Nishga
DESCRIPTION:Nisga’a writer Jordan Abel\, winner of the Griffin Poetry Prize\, presents NISHGA\, an autobiographical meditation on the impact of Canada’s residential school system and how it affects contemporary Indigenous existence. \nIn conversation with award-winning poet\, author\, and scholar\, Billy-Ray Belcourt. \nUse this Zoom link to access event (on May 28 at 12 pm) \n*Please register.* Use this link to register through VPL. \nRegistration is not required to participate\, but it helps us anticipate the number of attendees\, and allows us to send you any updates about this event. \nTo join the event you will need a computer\, tablet or phone with the Zoom app. Headphones are recommended. This will be a webinar\, so attendees will not be visible\, and you do not need a webcam. \nNew to Zoom? Learn more about using it here. \nThis program is co-presented with the Vancouver Public Library. \nTo purchase NISHGA from Massy Books\, use this link.
URL:https://www.massybooks.com/event/jordan-abel-nishga/
ATTACH;FMTTYPE=image/jpeg:https://www.massybooks.com/wp-content/uploads/2021/05/Nishga-VancouverLaunchEvite-twitter.jpg
END:VEVENT
END:VCALENDAR