BEGIN:VCALENDAR
VERSION:2.0
PRODID:-//Massy Books - ECPv6.2.6//NONSGML v1.0//EN
CALSCALE:GREGORIAN
METHOD:PUBLISH
X-ORIGINAL-URL:https://www.massybooks.com
X-WR-CALDESC:Events for Massy Books
REFRESH-INTERVAL;VALUE=DURATION:PT1H
X-Robots-Tag:noindex
X-PUBLISHED-TTL:PT1H
BEGIN:VTIMEZONE
TZID:America/Vancouver
BEGIN:DAYLIGHT
TZOFFSETFROM:-0800
TZOFFSETTO:-0700
TZNAME:PDT
DTSTART:20210314T100000
END:DAYLIGHT
BEGIN:STANDARD
TZOFFSETFROM:-0700
TZOFFSETTO:-0800
TZNAME:PST
DTSTART:20211107T090000
END:STANDARD
END:VTIMEZONE
BEGIN:VEVENT
DTSTART;TZID=America/Vancouver:20210527T160000
DTEND;TZID=America/Vancouver:20210527T173000
DTSTAMP:20260421T054037
CREATED:20210517T153945Z
LAST-MODIFIED:20210517T153945Z
UID:6799-1622131200-1622136600@www.massybooks.com
SUMMARY:Strangers: Book Launch with Rob Taylor\, Sadiqa de Meijer & Sue Sinclair
DESCRIPTION:Join us for the virtual book launch of Rob Taylor’s STRANGERS! We’ll be streaming live on Thursday\, May 27 at 7 PM EDT/ 4 PM PDT to celebrate his new poetry collection. Rob Taylor will be joined by Sadiqa de Meijer and Sue Sinclair. Massy Arts is pleased to co-host the event with Biblioasis. There will be a reading\, discussion\, an audience Q&A\, and a book giveaway. You could win a copy of STRANGERS!\n\n\nWe’ll be streaming on both Facebook and YouTube. The event link will be posted closer to the event date\, so RSVP to stay up to date! Go to the following link for event information and streaming: https://fb.me/e/DhK5AkpB\n\n\nABOUT STRANGERS:\n“It makes no sense. You would be strangers / if not for this.”\n\nIn Strangers\, Rob Taylor makes new the epiphany poem: the short lyric ending with a moment of recognition or arrival. In his hands\, the form becomes not simply a revelation in words but\, in Wallace Stevens’ phrase\, “a revelation in words by means of the words.” The epiphany here is not only the poet’s. It’s ours. A book about the songlines of memory and language and the ways in which they connect us to other human beings\, to read Strangers is to become part of the lineages (literary\, artistic\, familial) that it braids together—to become\, as Richard Outram puts it\, an “unspoken / Stranger no longer.”\n\n\nABOUT ROB TAYLOR:\nRob Taylor is the author of four poetry collections\, including Strangers (Biblioasis\, 2021) and The News (Gaspereau Press\, 2016)\, which was a finalist for the 2017 Dorothy Livesay Poetry Prize. He is also the editor of What the Poets Are Doing: Canadian Poets in Conversation (Nightwood Editions\, 2018) and the guest editor of Best Canadian Poetry 2019 (Biblioasis\, 2019). Rob lives with his family in Port Moody\, BC.\n\n\nOrder STRANGERS from Massy Books: https://storestock.massybooks.com/?q=h\n\nStay tuned for Rob Taylor’s STRANGERS SUMMER SERIES where he will be hosting small outdoor events throughout Vancouver (restrictions permitted). Learn more: http://roblucastaylor.com/strangerstour/
URL:https://www.massybooks.com/event/strangers-book-launch/
ATTACH;FMTTYPE=image/jpeg:https://www.massybooks.com/wp-content/uploads/2021/05/Rob-Taylor-Strangers-Cover.jpeg
END:VEVENT
END:VCALENDAR