BEGIN:VCALENDAR
VERSION:2.0
PRODID:-//Massy Books - ECPv6.2.6//NONSGML v1.0//EN
CALSCALE:GREGORIAN
METHOD:PUBLISH
X-WR-CALNAME:Massy Books
X-ORIGINAL-URL:https://www.massybooks.com
X-WR-CALDESC:Events for Massy Books
REFRESH-INTERVAL;VALUE=DURATION:PT1H
X-Robots-Tag:noindex
X-PUBLISHED-TTL:PT1H
BEGIN:VTIMEZONE
TZID:America/Vancouver
BEGIN:DAYLIGHT
TZOFFSETFROM:-0800
TZOFFSETTO:-0700
TZNAME:PDT
DTSTART:20210314T100000
END:DAYLIGHT
BEGIN:STANDARD
TZOFFSETFROM:-0700
TZOFFSETTO:-0800
TZNAME:PST
DTSTART:20211107T090000
END:STANDARD
END:VTIMEZONE
BEGIN:VEVENT
DTSTART;TZID=America/Vancouver:20210403T113000
DTEND;TZID=America/Vancouver:20210403T130000
DTSTAMP:20260421T041905
CREATED:20210225T195456Z
LAST-MODIFIED:20210225T200835Z
UID:6638-1617449400-1617454800@www.massybooks.com
SUMMARY:Genki Ferguson: Satellite Love Book Launch
DESCRIPTION:Join us to celebrate Genki Ferguson’s debut novel Satellite Love with a reading and discussion with the author and special guest Kevin Chong. Hosted in collaboration with Penguin Random House Canada and Massy Books. Satellite Love is available for purchase across Canada and the USA from Massy Books. \nPurchase here: https://bit.ly/3dDBimn \n*Registration Mandatory* Register here: https://bit.ly/3dN6srC \nSet in 1999 Japan\, Satellite Love is a heartbreaking and beautifully unconventional debut novel about a girl\, a boy\, and a satellite–and a bittersweet meditation on loneliness\, alienation\, and what it means to be human. \n“Satellite Love is one of those rare and affecting novels that will leave you breathless\, charmed\, and deeply thoughtful. A beautiful rumination on sentience\, imagination\, impermanence and friendship\, Genki Ferguson has written a story that lives on the precarious and satisfying edge of melancholy and exuberance.” — Ruth Ozeki\, author of A Tale for the Time Being \nGenki Ferguson was born in New Brunswick to a family of writers and grew up in Calgary. He spent much of his childhood in the subtropical island of Kyushu\, Japan\, where his mother’s family still resides. Fluent in Japanese and capable of making a decent sushi roll\, Genki was the recipient of the 2017 Helen Pitt Award for visual arts\, and recently completed a degree in Film Production while working part-time at Book Warehouse\, an indie store in Vancouver. \nKevin Chong is the author of six books\, most recently The Plague\, a retelling of Albert Camus’ novel of the same name. Based in Vancouver\, he teaches creative writing at the University of British Columbia Okanagan. The Plague is available for purchase through Massy Books: https://bit.ly/2MpVfSB
URL:https://www.massybooks.com/event/satellite-love/
ATTACH;FMTTYPE=image/png:https://www.massybooks.com/wp-content/uploads/2021/02/Genki-Facebook-Event-Photo-1.png
END:VEVENT
END:VCALENDAR