BEGIN:VCALENDAR
VERSION:2.0
PRODID:-//Massy Books - ECPv6.2.6//NONSGML v1.0//EN
CALSCALE:GREGORIAN
METHOD:PUBLISH
X-WR-CALNAME:Massy Books
X-ORIGINAL-URL:https://www.massybooks.com
X-WR-CALDESC:Events for Massy Books
REFRESH-INTERVAL;VALUE=DURATION:PT1H
X-Robots-Tag:noindex
X-PUBLISHED-TTL:PT1H
BEGIN:VTIMEZONE
TZID:America/Vancouver
BEGIN:DAYLIGHT
TZOFFSETFROM:-0800
TZOFFSETTO:-0700
TZNAME:PDT
DTSTART:20210314T100000
END:DAYLIGHT
BEGIN:STANDARD
TZOFFSETFROM:-0700
TZOFFSETTO:-0800
TZNAME:PST
DTSTART:20211107T090000
END:STANDARD
END:VTIMEZONE
BEGIN:VEVENT
DTSTART;TZID=America/Vancouver:20210322T160000
DTEND;TZID=America/Vancouver:20210322T170000
DTSTAMP:20260421T053648
CREATED:20210319T154609Z
LAST-MODIFIED:20210319T154609Z
UID:6697-1616428800-1616432400@www.massybooks.com
SUMMARY:A Town Called Solace - in Conversation with Shelagh Rogers
DESCRIPTION:New York Times bestselling author Mary Lawson\, acclaimed for digging into the “wilderness of the human heart”\, is back after almost a decade with a fresh and timely novel that is different in subject but just as emotional and atmospheric as her beloved earlier work. \nA Town Called Solace–the brilliant and emotionally radiant new novel from Mary Lawson\, her first in nearly a decade–opens on a family in crisis: rebellious teenager Rose been missing for weeks with no word\, and Rose”s younger sister\, the feisty and fierce Clara\, keeps a daily vigil at the living-room window\, hoping for her sibling”s return. \n– – – – – – – – – –\nHOW TO ATTEND: \nStep 1: Purchase a copy of A Town Called Solace  from indie bookstore Massy Books to receive access to this virtual event. Purchase here: https://bit.ly/3r3iUX6 \nStep 2: Fill out the registration with your order number to receive the Zoom info! http://www.penguinrandomhouse.ca/lawson \n– – – – – – – – – – \nABOUT THE AUTHOR \nMary Lawson was born and brought up in a small farming community in Ontario. She is the author of three previous nationally and internationally bestselling novels\, Crow Lake\, The Other Side of the Bridge\, and Road Ends. Crow Lake was a New York Times bestseller and was chosen as a Book of the Year by The New York Times and The Washington Post\, among others. The Other Side of the Bridge was longlisted for the Man Booker Prize. Lawson lives in England but returns to Canada frequently.
URL:https://www.massybooks.com/event/a-town-called-solace/
END:VEVENT
END:VCALENDAR