BEGIN:VCALENDAR
VERSION:2.0
PRODID:-//Massy Books - ECPv6.2.6//NONSGML v1.0//EN
CALSCALE:GREGORIAN
METHOD:PUBLISH
X-WR-CALNAME:Massy Books
X-ORIGINAL-URL:https://www.massybooks.com
X-WR-CALDESC:Events for Massy Books
REFRESH-INTERVAL;VALUE=DURATION:PT1H
X-Robots-Tag:noindex
X-PUBLISHED-TTL:PT1H
BEGIN:VTIMEZONE
TZID:America/Vancouver
BEGIN:DAYLIGHT
TZOFFSETFROM:-0800
TZOFFSETTO:-0700
TZNAME:PDT
DTSTART:20210314T100000
END:DAYLIGHT
BEGIN:STANDARD
TZOFFSETFROM:-0700
TZOFFSETTO:-0800
TZNAME:PST
DTSTART:20211107T090000
END:STANDARD
END:VTIMEZONE
BEGIN:VEVENT
DTSTART;TZID=America/Vancouver:20210308T140000
DTEND;TZID=America/Vancouver:20210308T153000
DTSTAMP:20260421T053542
CREATED:20210226T232934Z
LAST-MODIFIED:20210226T233010Z
UID:6655-1615212000-1615217400@www.massybooks.com
SUMMARY:The Juggling Mother: Coming Undone in the Age of COVID
DESCRIPTION:On International Women’s Day\, join us for a conversation about COVID\, motherhood\, and paid and unpaid work. \nAmanda D. Watson is the author of The Juggling Mother: Coming Undone in the Age of Anxiety (2020\, UBC Press). The book explores how the popular representation of the contemporary mother — frantically juggling paid labour and unpaid care work — perpetuates established inequities of race\, gender\, class and ability. Mothers with the most power are complicit in the exclusion of less privileged ones\, but also in their own undoing. \nAt this event\, Watson will read selected passages from The Juggling Mother\, followed by a conversation with Michelle Eliot\, award-winning journalist and host of “BC Today” on CBC Radio One. Watson and Eliot will discuss how the COVID-19 pandemic has exposed and intensified the challenges of this idealized version of motherhood. \n\n\n\n\n\n\nREGISTER \n\n\n\n\nWhen: Monday\, March 08\, 2021 2:00 PM \n\n\n\n\nWhere: Online event. A link and password to join the event will be sent to registrants via Eventbrite. \n\n\n\n\n\n\n\nSpeakers\n\n\n\n\n\n\n\n\nAmanda D. Watson\nAuthor of The Juggling Mother: Coming Undone in the Age of Anxiety \nAmanda D. Watson is a lecturer in the Department of Sociology and Anthropology at Simon Fraser University. Her work has been published in the International Feminist Journal of Politics\, Studies in Social Justice\, and Politique de l’image. \n\n\n\n\n\n\n\n\n \n\n\n\nMichelle Eliot\nHost of BC Today on CBC Radio One \nMichelle Eliot is the host of CBC Radio One’s midday open-line show BC Today. Michelle is an award-winning journalist with CBC Radio One\, and has become a familiar voice as a regular guest host on regional and national programs\, interviewing community members and prominent politicians\, as well authors and musicians such as Douglas Coupland and Bif Naked. But her true passion is for the open line\, where her skill at engaging callers probes further into their viewpoints and digs deeper into their personal stories. \n\n\n\n\n\nEvent Opener\n\n\n\n\n\n\n\n\nElder Syexwaliya (Ann Whonnock)\nSkwxwu7mesh Uxwumixw (Squamish Nation) \nAs taught by her late grandparents\, Syexwaliya supports families and shares cultural teachings and protocols within and outside of her community. Her passion is to see that Squamish culture\, language and ceremonies continue to be the cornerstone of the Nation for future generations and the culture carried on by future generations and her snichim (language) to be used\, not only by herself\, but for all the families and future generations in their daily lives and ceremonies. Let’s not let our Culture and Snichim die out! \n\n\n\n\n\n\nMC\n\n\n\n\n\n\n\n\nTravers\nSociology Professor\, Simon Fraser University \nTravers is a Professor of Sociology at Simon Fraser University. Their recent book\, The Trans Generation: How Trans Kids (and Their Parents) Are Creating a Gender Revolution\, situates trans kids in Canada and the US\, white settler nations characterized by significant social inequality. In addition to a central research focus on transgender children and youth\, Travers has published extensively on the relationship between sport and social justice\, with particular emphasis on the inclusion and exclusion of women\, queer and trans people of all ages. Travers is Deputy Editor of the journal\, Gender & Society. \n\n\n\n\n\nPartners\n\n\n\n\n\n\n\n\n \n\n\n\n\n\n\n\n\n\n\n\n\n\n\n\n\n\n\n\n\n\n\n\n\n\nAccessibility\, Technology & Privacy\n\n\n\n\nAccessibility \nClosed captioning will be available at this event. \nIf you have any questions about accessibility for this event\, please contact psqevent@sfu.ca. \nRegistration and password \nA password to access this event will be sent to all registrants via email in the days and hours preceeding the event. \nTechnology requirements \nThis workshop will be presented in a participatory webinar format. To engage fully you will need: \n\nA laptop\, computer\, or smartphone\nA webcam\nA microphone\nSpeakers or headphones\n\nProtecting your privacy \nTo ensure that we are using online meeting technology in a privacy-conscious way\, we are following best practices for this online event series: \n\nWe will only circulate the meeting link to those who are registered for the event\nWe will password protect the meeting\nWe will enable end-to-end encryption\nWe will not use attention tracking\n\nTo protect your own privacy we suggest that: \n\nYou use a unique email address to log into the webinar. This is so that the webinar platform can’t cross-reference your profile with the rest of your digital profiles under your email address.\nWe suggest you do not use your Facebook profile to log into the webinar. This is so that the webinar platform can’t cross-reference you with your Facebook account.\nWe remind you that whatever you say in the webinar is public and recorded\, so please do not share sensitive information about yourself or others\, and do not say anything you do not wish to enter the public domain.\n\nTo protect the privacy of others we ask that: \n\nYou do not record or photograph yourself\, other participants\, or the hosts during the webinar\, unless permission is requested and given.
URL:https://www.massybooks.com/event/the-juggling-mother/
ATTACH;FMTTYPE=image/jpeg:https://www.massybooks.com/wp-content/uploads/2021/02/Juggling-Mother.jpg
END:VEVENT
END:VCALENDAR