BEGIN:VCALENDAR
VERSION:2.0
PRODID:-//Massy Books - ECPv6.2.6//NONSGML v1.0//EN
CALSCALE:GREGORIAN
METHOD:PUBLISH
X-ORIGINAL-URL:https://www.massybooks.com
X-WR-CALDESC:Events for Massy Books
REFRESH-INTERVAL;VALUE=DURATION:PT1H
X-Robots-Tag:noindex
X-PUBLISHED-TTL:PT1H
BEGIN:VTIMEZONE
TZID:America/Vancouver
BEGIN:DAYLIGHT
TZOFFSETFROM:-0800
TZOFFSETTO:-0700
TZNAME:PDT
DTSTART:20210314T100000
END:DAYLIGHT
BEGIN:STANDARD
TZOFFSETFROM:-0700
TZOFFSETTO:-0800
TZNAME:PST
DTSTART:20211107T090000
END:STANDARD
END:VTIMEZONE
BEGIN:VEVENT
DTSTART;TZID=America/Vancouver:20210123T100000
DTEND;TZID=America/Vancouver:20210301T180000
DTSTAMP:20260421T070233
CREATED:20210104T182318Z
LAST-MODIFIED:20210104T185641Z
UID:6555-1611396000-1614621600@www.massybooks.com
SUMMARY:Nya Lewis for BlackArt Gastown: Quilt of Hope
DESCRIPTION:The Quilt of Hope is an installation that asks artists to consider their role in the movement\, and what art expression has to teach us about radical activism. It shares the perspectives of  practicing artists across  the Lower Mainland  in a collection of 25 quotes\, responding to the question “What is the role of Artists in dismantling anti-Black racism?” \nArtist and Curator: Nya Lewis for BlackArt Gastown \nAbout the Artist/Curator: \nNya Lewis’ practice is a culmination of centuries of African resistance\, love\, questions\, actions\, study\, embrace and exposure in the face of failed neo-colonial attempts at erasure. Nanyamka’s expression is powered by the perpetual engine of truth-explored\, uncompromised. It interrupts\, it educates\, it asks\, it unites\, it celebrates a Canada with all voices present\, with all voices heard\, with actions taken and commitment to justice declared. The artist sees her practice as a continuation of a long lineage of work undertaken by Black artists\, curators\, writers\, activists and thinkers who blaze(d) a trail of critical discourse surrounding the Black Canadian Experience. Lewis’ creative practice reflects upon the diversity of Black diasporic experiences and its many forms of expression. As such\, she works across the disciplines of art making\, curating and writing. Her work is multivalent in form and expression but is always driven by the reimagining and reclaiming of community. \nLewis is a MFA candidate at OCAD University\, an Independent curator currently serving as the Programming Coordinator at Vancouver Queer Film Festival and the founder and director of BlackArt Gastown. \nAccessibility\n \nThis exhibition takes place upstairs in the Massy Gallery\, which is only accessible by a flight of stairs. Unfortunately\, no audio or visual tours are available at this time.⁣\n⁣\nMasks are mandatory while in Massy Books.⁣
URL:https://www.massybooks.com/event/quilt-of-hope/
LOCATION:Massy Books\, 229 E. Georgia St.\, Vancouver\, British Columbia\, V6A1Z6\, Canada
END:VEVENT
BEGIN:VEVENT
DTSTART;TZID=America/Vancouver:20210217T100000
DTEND;TZID=America/Vancouver:20210217T180000
DTSTAMP:20260421T070233
CREATED:20210131T052355Z
LAST-MODIFIED:20210131T052355Z
UID:6606-1613556000-1613584800@www.massybooks.com
SUMMARY:I Read Canadian Day
DESCRIPTION:I Read Canadian Day is a national celebration of Canadian books for young people\, with the goal of elevating the genre\, and celebrating their breadth and diversity. On that day\, all Canadians will be encouraged to read a children’s book by a Canadian author or illustrator\, for 15 minutes. I Read Canadian Day will take place in homes\, schools\, libraries and bookstores across the country. You can learn more at ireadcanadian.com/day. \nThis event is the perfect way for young readers to take part in I Read Canadian this year. All are welcome to attend and celebrate great Canadian literature/books.
URL:https://www.massybooks.com/event/i-read-canadian-day/
END:VEVENT
END:VCALENDAR