BEGIN:VCALENDAR
VERSION:2.0
PRODID:-//Massy Books - ECPv6.2.6//NONSGML v1.0//EN
CALSCALE:GREGORIAN
METHOD:PUBLISH
X-WR-CALNAME:Massy Books
X-ORIGINAL-URL:https://www.massybooks.com
X-WR-CALDESC:Events for Massy Books
REFRESH-INTERVAL;VALUE=DURATION:PT1H
X-Robots-Tag:noindex
X-PUBLISHED-TTL:PT1H
BEGIN:VTIMEZONE
TZID:America/Vancouver
BEGIN:DAYLIGHT
TZOFFSETFROM:-0800
TZOFFSETTO:-0700
TZNAME:PDT
DTSTART:20200308T100000
END:DAYLIGHT
BEGIN:STANDARD
TZOFFSETFROM:-0700
TZOFFSETTO:-0800
TZNAME:PST
DTSTART:20201101T090000
END:STANDARD
END:VTIMEZONE
BEGIN:VEVENT
DTSTART;TZID=America/Vancouver:20200707T183000
DTEND;TZID=America/Vancouver:20200707T203000
DTSTAMP:20260421T161054
CREATED:20200707T173331Z
LAST-MODIFIED:20200707T173331Z
UID:5950-1594146600-1594153800@www.massybooks.com
SUMMARY:Art Song Lab Digital Poetry Reading
DESCRIPTION:July 7th\, join Art Song Lab 2020 Guest Poet Aislinn Hunter and the 2020 ASL poets for an evening of poetry readings online through Massy Books! \nWith readings by:\nBill Evans\nCarrie Jenkins\nAngela Rebrec\nAnne de Nada\nTawahum Bige\nKim Trainor\nDawna Silver \nArt Song Lab (ASL) is a collaborative institute facilitating creative interaction between writers\, composers\, and performers from around the world to advance the genre of contemporary art song. Offering a 6-month collaborative opportunity which culminates in a week-long intensive program\, ASL sees its participating artists converge in Vancouver each summer for an annual public performance premiering new works. \nASL enables composers and writers who are eager to broaden their creative experiences to engage with other disciplines and artistic traditions. Our structure is designed to stimulate participants’ individual crafts while cultivating conversations among partners and the public. As writers\, composers\, performers and listeners connect\, they absorb each others’ visceral materials into diversely creative processes. The resulting works are direct expressions of contemporary experience. Since its conception in 2011\, ASL has connected 74 writers with 78 composers\, presenting world premiers of 95 new art songs. \nFind out more at artsonglab.com \nZoom info:\nWebinar ID\n810 1944 3920\nhttps://us02web.zoom.us/j/81019443920?pwd=WjZKRTZCSnR0Rk1vOEhXamxYK2drZz09 \nThis event is being broadcast from the unceded territories of the Musqueam\, Squamish and Tseil-Waututh Nations.
URL:https://www.massybooks.com/event/art-song-lab-digital-poetry-reading/
END:VEVENT
END:VCALENDAR